BEGIN:VCALENDAR
VERSION:2.0
PRODID:-//ECHL//echl.com//EN
CALSCALE:GREGORIAN
BEGIN:VEVENT
UID:https://echl.com/games/2026/04/23/allen-americans-vs-idaho-steelheads
DTSTAMP:20260422T103107Z
SUMMARY:Idaho Steelheads @ Allen Americans
DTSTART;TZID=Canada/Central:20260423T191000
DTEND;TZID=Canada/Central:20260423T221000
DESCRIPTION:Idaho Steelheads at Allen Americans
LOCATION:Credit Union of Texas Event Center\, Allen\, Texas
URL;VALUE=URI:https://echl.com/games/2026/04/23/allen-americans-vs-idaho-st
 eelheads
END:VEVENT
END:VCALENDAR
