BEGIN:VCALENDAR
VERSION:2.0
PRODID:-//ECHL//echl.com//EN
CALSCALE:GREGORIAN
BEGIN:VEVENT
UID:https://echl.com/games/2026/04/24/allen-americans-vs-idaho-steelheads
DTSTAMP:20260422T103129Z
SUMMARY:Idaho Steelheads @ Allen Americans
DTSTART;TZID=Canada/Central:20260424T191000
DTEND;TZID=Canada/Central:20260424T221000
DESCRIPTION:Idaho Steelheads at Allen Americans
LOCATION:Credit Union of Texas Event Center\, Allen\, Texas
URL;VALUE=URI:https://echl.com/games/2026/04/24/allen-americans-vs-idaho-st
 eelheads
END:VEVENT
END:VCALENDAR
