BEGIN:VCALENDAR
VERSION:2.0
PRODID:-//ECHL//echl.com//EN
CALSCALE:GREGORIAN
BEGIN:VEVENT
UID:https://echl.com/games/2026/04/24/florida-everblades-vs-savannah-ghost-
 pirates
DTSTAMP:20260422T103056Z
SUMMARY:Savannah Ghost Pirates @ Florida Everblades
DTSTART;TZID=Canada/Eastern:20260424T193000
DTEND;TZID=Canada/Eastern:20260424T223000
DESCRIPTION:Savannah Ghost Pirates at Florida Everblades
LOCATION:Hertz Arena\, Estero\, Florida
URL;VALUE=URI:https://echl.com/games/2026/04/24/florida-everblades-vs-savan
 nah-ghost-pirates
END:VEVENT
END:VCALENDAR
