BEGIN:VCALENDAR
VERSION:2.0
PRODID:-//ECHL//echl.com//EN
CALSCALE:GREGORIAN
BEGIN:VEVENT
UID:https://echl.com/games/2026/04/24/south-carolina-stingrays-vs-atlanta-g
 ladiators
DTSTAMP:20260422T103107Z
SUMMARY:Atlanta Gladiators @ South Carolina Stingrays
DTSTART;TZID=Canada/Eastern:20260424T190500
DTEND;TZID=Canada/Eastern:20260424T220500
DESCRIPTION:Atlanta Gladiators at South Carolina Stingrays
LOCATION:North Charleston Coliseum\, North Charleston\, South Carolina
URL;VALUE=URI:https://echl.com/games/2026/04/24/south-carolina-stingrays-vs
 -atlanta-gladiators
END:VEVENT
END:VCALENDAR
