BEGIN:VCALENDAR
VERSION:2.0
PRODID:-//ECHL//echl.com//EN
CALSCALE:GREGORIAN
BEGIN:VEVENT
UID:https://echl.com/games/2026/04/25/fort-wayne-komets-vs-indy-fuel
DTSTAMP:20260422T103006Z
SUMMARY:Indy Fuel @ Fort Wayne Komets
DTSTART;TZID=Canada/Eastern:20260425T193500
DTEND;TZID=Canada/Eastern:20260425T223500
DESCRIPTION:Indy Fuel at Fort Wayne Komets
LOCATION:Memorial Coliseum\, Fort Wayne\, Indiana
URL;VALUE=URI:https://echl.com/games/2026/04/25/fort-wayne-komets-vs-indy-f
 uel
END:VEVENT
END:VCALENDAR
