BEGIN:VCALENDAR
VERSION:2.0
PRODID:-//ECHL//echl.com//EN
CALSCALE:GREGORIAN
BEGIN:VEVENT
UID:https://echl.com/games/2026/04/25/kansas-city-mavericks-vs-tahoe-knight
 -monsters
DTSTAMP:20260422T110421Z
SUMMARY:Tahoe Knight Monsters @ Kansas City Mavericks
DTSTART;TZID=Canada/Central:20260425T180500
DTEND;TZID=Canada/Central:20260425T210500
DESCRIPTION:Tahoe Knight Monsters at Kansas City Mavericks
LOCATION:Cable Dahmer Arena\, Independence\, Missouri
URL;VALUE=URI:https://echl.com/games/2026/04/25/kansas-city-mavericks-vs-ta
 hoe-knight-monsters
END:VEVENT
END:VCALENDAR
