BEGIN:VCALENDAR
VERSION:2.0
PRODID:-//ECHL//echl.com//EN
CALSCALE:GREGORIAN
BEGIN:VEVENT
UID:https://echl.com/games/2026/04/25/toledo-walleye-vs-bloomington-bison
DTSTAMP:20260422T102919Z
SUMMARY:Bloomington Bison @ Toledo Walleye
DTSTART;TZID=Canada/Eastern:20260425T191500
DTEND;TZID=Canada/Eastern:20260425T221500
DESCRIPTION:Bloomington Bison at Toledo Walleye
LOCATION:Huntington Center\, Toledo\, Ohio
URL;VALUE=URI:https://echl.com/games/2026/04/25/toledo-walleye-vs-bloomingt
 on-bison
END:VEVENT
END:VCALENDAR
