BEGIN:VCALENDAR
VERSION:2.0
PRODID:-//ECHL//echl.com//EN
CALSCALE:GREGORIAN
BEGIN:VEVENT
UID:https://echl.com/games/2026/04/29/bloomington-bison-vs-toledo-walleye
DTSTAMP:20260421T133859Z
SUMMARY:Toledo Walleye @ Bloomington Bison
DTSTART;TZID=Canada/Central:20260429T190000
DTEND;TZID=Canada/Central:20260429T220000
DESCRIPTION:Toledo Walleye at Bloomington Bison
LOCATION:Grossinger Motors Arena\, Bloomington\, Illinois
URL;VALUE=URI:https://echl.com/games/2026/04/29/bloomington-bison-vs-toledo
 -walleye
END:VEVENT
END:VCALENDAR
