BEGIN:VCALENDAR
VERSION:2.0
PRODID:-//ECHL//echl.com//EN
CALSCALE:GREGORIAN
BEGIN:VEVENT
UID:https://echl.com/games/2026/04/29/indy-fuel-vs-fort-wayne-komets
DTSTAMP:20260421T132019Z
SUMMARY:Fort Wayne Komets @ Indy Fuel
DTSTART;TZID=Canada/Eastern:20260429T190500
DTEND;TZID=Canada/Eastern:20260429T220500
DESCRIPTION:Fort Wayne Komets at Indy Fuel
LOCATION:Fishers Event Center\, Fishers\, Indiana
URL;VALUE=URI:https://echl.com/games/2026/04/29/indy-fuel-vs-fort-wayne-kom
 ets
END:VEVENT
END:VCALENDAR
