BEGIN:VCALENDAR
VERSION:2.0
PRODID:-//ECHL//echl.com//EN
CALSCALE:GREGORIAN
BEGIN:VEVENT
UID:https://echl.com/games/2026/04/29/savannah-ghost-pirates-vs-florida-eve
 rblades
DTSTAMP:20260421T133331Z
SUMMARY:Florida Everblades @ Savannah Ghost Pirates
DTSTART;TZID=Canada/Eastern:20260429T190000
DTEND;TZID=Canada/Eastern:20260429T220000
DESCRIPTION:Florida Everblades at Savannah Ghost Pirates
LOCATION:Enmarket Arena\, Savannah\, Georgia
URL;VALUE=URI:https://echl.com/games/2026/04/29/savannah-ghost-pirates-vs-f
 lorida-everblades
END:VEVENT
END:VCALENDAR
