BEGIN:VCALENDAR
VERSION:2.0
PRODID:-//ECHL//echl.com//EN
CALSCALE:GREGORIAN
BEGIN:VEVENT
UID:https://echl.com/games/2026/04/29/tahoe-knight-monsters-vs-kansas-city-
 mavericks
DTSTAMP:20260421T131713Z
SUMMARY:Kansas City Mavericks @ Tahoe Knight Monsters
DTSTART;TZID=Canada/Pacific:20260429T190000
DTEND;TZID=Canada/Pacific:20260429T220000
DESCRIPTION:Kansas City Mavericks at Tahoe Knight Monsters
LOCATION:Tahoe Blue Event Center\, Stateline\, Nevada
URL;VALUE=URI:https://echl.com/games/2026/04/29/tahoe-knight-monsters-vs-ka
 nsas-city-mavericks
END:VEVENT
END:VCALENDAR
