BEGIN:VCALENDAR
VERSION:2.0
PRODID:-//ECHL//echl.com//EN
CALSCALE:GREGORIAN
BEGIN:VEVENT
UID:https://echl.com/games/2026/05/01/adirondack-thunder-vs-maine-mariners
DTSTAMP:20260421T182455Z
SUMMARY:Maine Mariners @ Adirondack Thunder
DTSTART;TZID=Canada/Eastern:20260501T190000
DTEND;TZID=Canada/Eastern:20260501T220000
DESCRIPTION:Maine Mariners at Adirondack Thunder
LOCATION:Harding Mazzotti Arena\, Glens Falls\, New York
URL;VALUE=URI:https://echl.com/games/2026/05/01/adirondack-thunder-vs-maine
 -mariners
END:VEVENT
END:VCALENDAR
