BEGIN:VCALENDAR
VERSION:2.0
PRODID:-//ECHL//echl.com//EN
CALSCALE:GREGORIAN
BEGIN:VEVENT
UID:https://echl.com/games/2026/05/01/reading-royals-vs-wheeling-nailers
DTSTAMP:20260422T221831Z
SUMMARY:Wheeling Nailers @ Reading Royals
DTSTART;TZID=Canada/Eastern:20260501T190000
DTEND;TZID=Canada/Eastern:20260501T220000
DESCRIPTION:Wheeling Nailers at Reading Royals
LOCATION:Santander Arena\, Reading\, Pennsylvania
URL;VALUE=URI:https://echl.com/games/2026/05/01/reading-royals-vs-wheeling-
 nailers
END:VEVENT
END:VCALENDAR
