BEGIN:VCALENDAR
VERSION:2.0
PRODID:-//ECHL//echl.com//EN
CALSCALE:GREGORIAN
BEGIN:VEVENT
UID:https://echl.com/games/2026/05/04/wheeling-nailers-vs-reading-royals
DTSTAMP:20260422T222002Z
SUMMARY:Reading Royals @ Wheeling Nailers
DTSTART;TZID=Canada/Eastern:20260504T191000
DTEND;TZID=Canada/Eastern:20260504T221000
DESCRIPTION:Reading Royals at Wheeling Nailers
LOCATION:WesBanco Arena\, Wheeling\, West Virginia
URL;VALUE=URI:https://echl.com/games/2026/05/04/wheeling-nailers-vs-reading
 -royals
END:VEVENT
END:VCALENDAR
