BEGIN:VCALENDAR
VERSION:2.0
PRODID:-//ECHL//echl.com//EN
CALSCALE:GREGORIAN
BEGIN:VEVENT
UID:https://echl.com/games/2026/05/06/maine-mariners-vs-adirondack-thunder
DTSTAMP:20260421T182706Z
SUMMARY:Adirondack Thunder @ Maine Mariners
DTSTART;TZID=Canada/Eastern:20260506T190000
DTEND;TZID=Canada/Eastern:20260506T220000
DESCRIPTION:Adirondack Thunder at Maine Mariners
LOCATION:Cross Insurance Arena\, Portland\, Maine
URL;VALUE=URI:https://echl.com/games/2026/05/06/maine-mariners-vs-adirondac
 k-thunder
END:VEVENT
END:VCALENDAR
